BEGIN:VCALENDAR
VERSION:2.0
PRODID:-//De Colores Py - ECPv6.15.10//NONSGML v1.0//EN
CALSCALE:GREGORIAN
METHOD:PUBLISH
X-WR-CALNAME:De Colores Py
X-ORIGINAL-URL:https://decolores.org.py
X-WR-CALDESC:Eventos para De Colores Py
REFRESH-INTERVAL;VALUE=DURATION:PT1H
X-Robots-Tag:noindex
X-PUBLISHED-TTL:PT1H
BEGIN:VTIMEZONE
TZID:America/Halifax
BEGIN:DAYLIGHT
TZOFFSETFROM:-0400
TZOFFSETTO:-0300
TZNAME:ADT
DTSTART:20230312T060000
END:DAYLIGHT
BEGIN:STANDARD
TZOFFSETFROM:-0300
TZOFFSETTO:-0400
TZNAME:AST
DTSTART:20231105T050000
END:STANDARD
BEGIN:DAYLIGHT
TZOFFSETFROM:-0400
TZOFFSETTO:-0300
TZNAME:ADT
DTSTART:20240310T060000
END:DAYLIGHT
BEGIN:STANDARD
TZOFFSETFROM:-0300
TZOFFSETTO:-0400
TZNAME:AST
DTSTART:20241103T050000
END:STANDARD
BEGIN:DAYLIGHT
TZOFFSETFROM:-0400
TZOFFSETTO:-0300
TZNAME:ADT
DTSTART:20250309T060000
END:DAYLIGHT
BEGIN:STANDARD
TZOFFSETFROM:-0300
TZOFFSETTO:-0400
TZNAME:AST
DTSTART:20251102T050000
END:STANDARD
END:VTIMEZONE
BEGIN:VEVENT
DTSTART;VALUE=DATE:20241031
DTEND;VALUE=DATE:20241104
DTSTAMP:20260423T110037
CREATED:20240901T203056Z
LAST-MODIFIED:20240910T141528Z
UID:13616-1730332800-1730678399@decolores.org.py
SUMMARY:Cursillo N° 64 - Zonal Decanato oeste
DESCRIPTION:
URL:https://decolores.org.py/evento/retiro-n-64-2/
LOCATION:Diocesis Encarnacion
CATEGORIES:Mujeres
END:VEVENT
BEGIN:VEVENT
DTSTART;TZID=America/Halifax:20241024T080000
DTEND;TZID=America/Halifax:20241027T170000
DTSTAMP:20260423T110037
CREATED:20240901T204538Z
LAST-MODIFIED:20240910T141549Z
UID:13665-1729756800-1730048400@decolores.org.py
SUMMARY:Cursillo N° 65 - Zonal Decanato oeste
DESCRIPTION:
URL:https://decolores.org.py/evento/retiro-n-65/
LOCATION:Diocesis Encarnacion
CATEGORIES:Varones
END:VEVENT
BEGIN:VEVENT
DTSTART;TZID=America/Halifax:20241024T080000
DTEND;TZID=America/Halifax:20241027T170000
DTSTAMP:20260423T110037
CREATED:20240901T204500Z
LAST-MODIFIED:20240910T141624Z
UID:13663-1729756800-1730048400@decolores.org.py
SUMMARY:Cursillo N° 32
DESCRIPTION:
URL:https://decolores.org.py/evento/retiro-n-32/
LOCATION:Diocesis Coronel Oviedo
CATEGORIES:Mujeres
END:VEVENT
BEGIN:VEVENT
DTSTART;VALUE=DATE:20241017
DTEND;VALUE=DATE:20241021
DTSTAMP:20260423T110037
CREATED:20240901T204348Z
LAST-MODIFIED:20240910T141639Z
UID:13661-1729123200-1729468799@decolores.org.py
SUMMARY:Cursillo N° 33
DESCRIPTION:
URL:https://decolores.org.py/evento/retiro-n-33/
LOCATION:Diocesis Coronel Oviedo
CATEGORIES:Varones
END:VEVENT
BEGIN:VEVENT
DTSTART;VALUE=DATE:20241003
DTEND;VALUE=DATE:20241007
DTSTAMP:20260423T110037
CREATED:20240901T204308Z
LAST-MODIFIED:20240910T141650Z
UID:13659-1727913600-1728259199@decolores.org.py
SUMMARY:Cursillo N° 10
DESCRIPTION:
URL:https://decolores.org.py/evento/retiro-n-10-4/
LOCATION:Diocesis San Pedro Apostol
CATEGORIES:Mujeres
END:VEVENT
BEGIN:VEVENT
DTSTART;VALUE=DATE:20241003
DTEND;VALUE=DATE:20241007
DTSTAMP:20260423T110037
CREATED:20240901T204102Z
LAST-MODIFIED:20240910T141713Z
UID:13654-1727913600-1728259199@decolores.org.py
SUMMARY:Cursillo N° 2 - Zonal 7 Mariano R. Alonso
DESCRIPTION:
URL:https://decolores.org.py/evento/retiro-n-2-2/
LOCATION:Arquidiocesis
CATEGORIES:Mujeres
END:VEVENT
BEGIN:VEVENT
DTSTART;VALUE=DATE:20240926
DTEND;VALUE=DATE:20240930
DTSTAMP:20260423T110037
CREATED:20240901T204142Z
LAST-MODIFIED:20240910T141732Z
UID:13656-1727308800-1727654399@decolores.org.py
SUMMARY:Cursillo N° 10
DESCRIPTION:
URL:https://decolores.org.py/evento/retiro-n-10-3/
LOCATION:Diocesis San Pedro Apostol
CATEGORIES:Varones
END:VEVENT
BEGIN:VEVENT
DTSTART;VALUE=DATE:20240926
DTEND;VALUE=DATE:20240930
DTSTAMP:20260423T110037
CREATED:20240901T204033Z
LAST-MODIFIED:20240910T141742Z
UID:13652-1727308800-1727654399@decolores.org.py
SUMMARY:Cursillo N° 2 - Zonal 7 Mariano R. Alonso
DESCRIPTION:
URL:https://decolores.org.py/evento/retiro-n-2/
LOCATION:Arquidiocesis
CATEGORIES:Varones
END:VEVENT
BEGIN:VEVENT
DTSTART;VALUE=DATE:20240919
DTEND;VALUE=DATE:20240923
DTSTAMP:20260423T110037
CREATED:20240901T203954Z
LAST-MODIFIED:20240910T141759Z
UID:13650-1726704000-1727049599@decolores.org.py
SUMMARY:Cursillo N° 29 - Zonal 4 Limpio
DESCRIPTION:
URL:https://decolores.org.py/evento/retiro-n-29-2/
LOCATION:Arquidiocesis
CATEGORIES:Mujeres
END:VEVENT
BEGIN:VEVENT
DTSTART;VALUE=DATE:20240912
DTEND;VALUE=DATE:20240916
DTSTAMP:20260423T110037
CREATED:20240901T203922Z
LAST-MODIFIED:20240910T141803Z
UID:13648-1726099200-1726444799@decolores.org.py
SUMMARY:Cursillo N° 29 - Zonal 4 Limpio
DESCRIPTION:
URL:https://decolores.org.py/evento/retiro-n-29/
LOCATION:Arquidiocesis
CATEGORIES:Varones
END:VEVENT
BEGIN:VEVENT
DTSTART;TZID=America/Halifax:20240905T080000
DTEND;TZID=America/Halifax:20240908T170000
DTSTAMP:20260423T110037
CREATED:20240901T203848Z
LAST-MODIFIED:20240910T141811Z
UID:13646-1725523200-1725814800@decolores.org.py
SUMMARY:Cursillo N° 24
DESCRIPTION:
URL:https://decolores.org.py/evento/retiro-n-24-4/
LOCATION:Diocesis Carapegua
CATEGORIES:Mujeres
END:VEVENT
BEGIN:VEVENT
DTSTART;VALUE=DATE:20240905
DTEND;VALUE=DATE:20240909
DTSTAMP:20260423T110037
CREATED:20240901T203744Z
LAST-MODIFIED:20240910T141820Z
UID:13642-1725494400-1725839999@decolores.org.py
SUMMARY:Cursillo N° 26
DESCRIPTION:
URL:https://decolores.org.py/evento/retiro-n-26-2/
LOCATION:Diocesis San Lorenzo
CATEGORIES:Mujeres
END:VEVENT
BEGIN:VEVENT
DTSTART;VALUE=DATE:20240829
DTEND;VALUE=DATE:20240902
DTSTAMP:20260423T110037
CREATED:20240901T203818Z
LAST-MODIFIED:20240910T141836Z
UID:13644-1724889600-1725235199@decolores.org.py
SUMMARY:Cursillo N° 24
DESCRIPTION:
URL:https://decolores.org.py/evento/retiro-n-24-3/
LOCATION:Diocesis Carapegua
CATEGORIES:Varones
END:VEVENT
BEGIN:VEVENT
DTSTART;VALUE=DATE:20240829
DTEND;VALUE=DATE:20240902
DTSTAMP:20260423T110037
CREATED:20240901T203716Z
LAST-MODIFIED:20240910T141855Z
UID:13640-1724889600-1725235199@decolores.org.py
SUMMARY:Cursillo N° 26
DESCRIPTION:
URL:https://decolores.org.py/evento/retiro-n-26/
LOCATION:Diocesis San Lorenzo
CATEGORIES:Varones
END:VEVENT
BEGIN:VEVENT
DTSTART;VALUE=DATE:20240822
DTEND;VALUE=DATE:20240826
DTSTAMP:20260423T110037
CREATED:20240901T203644Z
LAST-MODIFIED:20240910T141918Z
UID:13638-1724284800-1724630399@decolores.org.py
SUMMARY:Cursillo N° 58 - Zonal 3 Fernando de la Mora
DESCRIPTION:
URL:https://decolores.org.py/evento/retiro-n-58-2/
LOCATION:Arquidiocesis
CATEGORIES:Mujeres
END:VEVENT
BEGIN:VEVENT
DTSTART;VALUE=DATE:20240815
DTEND;VALUE=DATE:20240819
DTSTAMP:20260423T110037
CREATED:20240901T203612Z
LAST-MODIFIED:20240910T141921Z
UID:13636-1723680000-1724025599@decolores.org.py
SUMMARY:Cursillo N° 58 - Zonal 3 Fernando de la Mora
DESCRIPTION:
URL:https://decolores.org.py/evento/retiro-n-58/
LOCATION:Arquidiocesis
CATEGORIES:Varones
END:VEVENT
BEGIN:VEVENT
DTSTART;TZID=America/Halifax:20240808T080000
DTEND;TZID=America/Halifax:20240811T170000
DTSTAMP:20260423T110037
CREATED:20240901T203535Z
LAST-MODIFIED:20240910T141938Z
UID:13634-1723104000-1723395600@decolores.org.py
SUMMARY:Cursillo N° 10 - Zonal 5 Aregua
DESCRIPTION:
URL:https://decolores.org.py/evento/retiro-n-10-2/
LOCATION:Arquidiocesis
CATEGORIES:Mujeres
END:VEVENT
BEGIN:VEVENT
DTSTART;VALUE=DATE:20240801
DTEND;VALUE=DATE:20240805
DTSTAMP:20260423T110037
CREATED:20240901T203508Z
LAST-MODIFIED:20240910T142004Z
UID:13632-1722470400-1722815999@decolores.org.py
SUMMARY:Cursillo N° 10 - Zonal 5 Aregua
DESCRIPTION:
URL:https://decolores.org.py/evento/retiro-n-10/
LOCATION:Arquidiocesis
CATEGORIES:Varones
END:VEVENT
BEGIN:VEVENT
DTSTART;VALUE=DATE:20240725
DTEND;VALUE=DATE:20240729
DTSTAMP:20260423T110037
CREATED:20240901T203438Z
LAST-MODIFIED:20240910T142024Z
UID:13630-1721865600-1722211199@decolores.org.py
SUMMARY:Cursillo N° 148 - Zonal 1 Asunción
DESCRIPTION:
URL:https://decolores.org.py/evento/retiro-n-148/
LOCATION:Arquidiocesis
CATEGORIES:Mujeres
END:VEVENT
BEGIN:VEVENT
DTSTART;VALUE=DATE:20240718
DTEND;VALUE=DATE:20240722
DTSTAMP:20260423T110037
CREATED:20240901T203408Z
LAST-MODIFIED:20240910T142036Z
UID:13628-1721260800-1721606399@decolores.org.py
SUMMARY:Cursillo N° 150 - Zonal 1 Asunción
DESCRIPTION:
URL:https://decolores.org.py/evento/retiro-n-150/
LOCATION:Arquidiocesis
CATEGORIES:Varones
END:VEVENT
BEGIN:VEVENT
DTSTART;VALUE=DATE:20240718
DTEND;VALUE=DATE:20240722
DTSTAMP:20260423T110037
CREATED:20240901T203336Z
LAST-MODIFIED:20240910T142142Z
UID:13626-1721260800-1721606399@decolores.org.py
SUMMARY:Cursillo N° 31
DESCRIPTION:
URL:https://decolores.org.py/evento/retiro-n-31-2/
LOCATION:Diocesis Caacupe
CATEGORIES:Mujeres
END:VEVENT
BEGIN:VEVENT
DTSTART;VALUE=DATE:20240718
DTEND;VALUE=DATE:20240722
DTSTAMP:20260423T110037
CREATED:20240901T203239Z
LAST-MODIFIED:20240910T142149Z
UID:13622-1721260800-1721606399@decolores.org.py
SUMMARY:Cursillo N° 47
DESCRIPTION:
URL:https://decolores.org.py/evento/retiro-n-47-2/
LOCATION:Diocesis Villarrica
CATEGORIES:Mujeres
END:VEVENT
BEGIN:VEVENT
DTSTART;VALUE=DATE:20240718
DTEND;VALUE=DATE:20240722
DTSTAMP:20260423T110037
CREATED:20240901T203131Z
LAST-MODIFIED:20240910T142213Z
UID:13618-1721260800-1721606399@decolores.org.py
SUMMARY:Cursillo N° 63 - Zonal Decanato Encarnación
DESCRIPTION:
URL:https://decolores.org.py/evento/retiro-n-63/
LOCATION:Diocesis Encarnacion
CATEGORIES:Mujeres
END:VEVENT
BEGIN:VEVENT
DTSTART;VALUE=DATE:20240718
DTEND;VALUE=DATE:20240722
DTSTAMP:20260423T110037
CREATED:20240901T202919Z
LAST-MODIFIED:20240910T142246Z
UID:13612-1721260800-1721606399@decolores.org.py
SUMMARY:Cursillo N° 24
DESCRIPTION:
URL:https://decolores.org.py/evento/retiro-n-24-2/
LOCATION:Diocesis San Juan Bautista
CATEGORIES:Mujeres
END:VEVENT
BEGIN:VEVENT
DTSTART;VALUE=DATE:20240718
DTEND;VALUE=DATE:20240722
DTSTAMP:20260423T110037
CREATED:20240901T202428Z
LAST-MODIFIED:20240910T142258Z
UID:13605-1721260800-1721606399@decolores.org.py
SUMMARY:Cursillo N° 15 - Zonal Concepción
DESCRIPTION:
URL:https://decolores.org.py/evento/retiro-n-15-2/
LOCATION:Diocesis Concepción\, Paraguay
CATEGORIES:Mujeres
ATTACH;FMTTYPE=image/jpeg:https://decolores.org.py/wp-content/uploads/2024/09/alexandru-tudorache-JdjdIjzJl94-unsplash-scaled.jpg
END:VEVENT
BEGIN:VEVENT
DTSTART;TZID=America/Halifax:20240711T080000
DTEND;TZID=America/Halifax:20240714T170000
DTSTAMP:20260423T110037
CREATED:20240901T202349Z
LAST-MODIFIED:20240910T142604Z
UID:13603-1720684800-1720976400@decolores.org.py
SUMMARY:Cursillo N° 15 - Zonal Concepción
DESCRIPTION:
URL:https://decolores.org.py/evento/retiro-n-15/
LOCATION:Diocesis Concepción\, Paraguay
CATEGORIES:Varones
END:VEVENT
BEGIN:VEVENT
DTSTART;VALUE=DATE:20240711
DTEND;VALUE=DATE:20240715
DTSTAMP:20260423T110037
CREATED:20240901T203310Z
LAST-MODIFIED:20240910T142628Z
UID:13624-1720656000-1721001599@decolores.org.py
SUMMARY:Cursillo N° 31
DESCRIPTION:
URL:https://decolores.org.py/evento/retiro-n-31/
LOCATION:Diocesis Caacupe
CATEGORIES:Varones
END:VEVENT
BEGIN:VEVENT
DTSTART;VALUE=DATE:20240711
DTEND;VALUE=DATE:20240715
DTSTAMP:20260423T110037
CREATED:20240901T203212Z
LAST-MODIFIED:20240910T142637Z
UID:13620-1720656000-1721001599@decolores.org.py
SUMMARY:Cursillo N° 47
DESCRIPTION:
URL:https://decolores.org.py/evento/retiro-n-47/
LOCATION:Diocesis Villarrica
CATEGORIES:Varones
END:VEVENT
BEGIN:VEVENT
DTSTART;VALUE=DATE:20240711
DTEND;VALUE=DATE:20240715
DTSTAMP:20260423T110037
CREATED:20240901T203017Z
LAST-MODIFIED:20240910T142656Z
UID:13614-1720656000-1721001599@decolores.org.py
SUMMARY:Cursillo N° 64 - Zonal Decanato Encarnación
DESCRIPTION:
URL:https://decolores.org.py/evento/retiro-n-64/
LOCATION:Diocesis Encarnacion
CATEGORIES:Varones
END:VEVENT
BEGIN:VEVENT
DTSTART;VALUE=DATE:20240711
DTEND;VALUE=DATE:20240715
DTSTAMP:20260423T110037
CREATED:20240901T202845Z
LAST-MODIFIED:20240910T142710Z
UID:13610-1720656000-1721001599@decolores.org.py
SUMMARY:Cursillo N° 24
DESCRIPTION:
URL:https://decolores.org.py/evento/retiro-n-24/
LOCATION:Diocesis San Juan Bautista
CATEGORIES:Varones
END:VEVENT
END:VCALENDAR